BEGIN:VCALENDAR
VERSION:2.0
PRODID:-//That'll Do Academy - ECPv6.15.17.1//NONSGML v1.0//EN
CALSCALE:GREGORIAN
METHOD:PUBLISH
X-WR-CALNAME:That'll Do Academy
X-ORIGINAL-URL:https://thatlldoacademy.com
X-WR-CALDESC:Events for That'll Do Academy
REFRESH-INTERVAL;VALUE=DURATION:PT1H
X-Robots-Tag:noindex
X-PUBLISHED-TTL:PT1H
BEGIN:VTIMEZONE
TZID:Europe/London
BEGIN:DAYLIGHT
TZOFFSETFROM:+0000
TZOFFSETTO:+0100
TZNAME:BST
DTSTART:20210328T010000
END:DAYLIGHT
BEGIN:STANDARD
TZOFFSETFROM:+0100
TZOFFSETTO:+0000
TZNAME:GMT
DTSTART:20211031T010000
END:STANDARD
BEGIN:DAYLIGHT
TZOFFSETFROM:+0000
TZOFFSETTO:+0100
TZNAME:BST
DTSTART:20220327T010000
END:DAYLIGHT
BEGIN:STANDARD
TZOFFSETFROM:+0100
TZOFFSETTO:+0000
TZNAME:GMT
DTSTART:20221030T010000
END:STANDARD
BEGIN:DAYLIGHT
TZOFFSETFROM:+0000
TZOFFSETTO:+0100
TZNAME:BST
DTSTART:20230326T010000
END:DAYLIGHT
BEGIN:STANDARD
TZOFFSETFROM:+0100
TZOFFSETTO:+0000
TZNAME:GMT
DTSTART:20231029T010000
END:STANDARD
BEGIN:DAYLIGHT
TZOFFSETFROM:+0000
TZOFFSETTO:+0100
TZNAME:BST
DTSTART:20240331T010000
END:DAYLIGHT
BEGIN:STANDARD
TZOFFSETFROM:+0100
TZOFFSETTO:+0000
TZNAME:GMT
DTSTART:20241027T010000
END:STANDARD
END:VTIMEZONE
BEGIN:VTIMEZONE
TZID:UTC
BEGIN:STANDARD
TZOFFSETFROM:+0000
TZOFFSETTO:+0000
TZNAME:UTC
DTSTART:20220101T000000
END:STANDARD
END:VTIMEZONE
BEGIN:VEVENT
DTSTART;TZID=Europe/London:20230406T093000
DTEND;TZID=Europe/London:20230406T223000
DTSTAMP:20260422T083032
CREATED:20230313T104427Z
LAST-MODIFIED:20230327T083209Z
UID:53000-1680773400-1680820200@thatlldoacademy.com
SUMMARY:Hoopers Foundation Class
DESCRIPTION:Hoopers is a great sport\, easy to teach and cheap to assemble to practice in the your garden! \nThis 8 week course we are going to start from the very beginning of hoopers training\, working on your dog motivation to drive away from you and learn the value for the equipment: hoops\, tunnel and tango mat. \nWe will build up your skills to run small courses and maybe even to submit your CHW Achievement Award Level 1!\nYour dog needs to be: \nWe might be working two or three dogs at the same times\, although we will try to manage space and interaction\, dogs MUST BE friendly or at least NOT REACTIVE or AGGRESSIVE to other dogs. \nIf you are not sure your dog will run up to other dogs instead of working with you\, get in touch first to discuss. You can use a long line at the beginning of the class but when we start adding more obstacles together dogs will have to be working off lead. \nYour dog can be food or toy motivated\, better if both! \nStarting on the 6th of April at 9.30 \nLocation\, my training field CW47LN
URL:https://thatlldoacademy.com/event/hoopers-foundation-class/
ATTACH;FMTTYPE=image/jpeg:https://thatlldoacademy.com/wp-content/uploads/2023/03/332470786_3484296401828909_1096452499600475275_n.jpeg
END:VEVENT
BEGIN:VEVENT
DTSTART;TZID=UTC:20230323T180000
DTEND;TZID=UTC:20230323T193000
DTSTAMP:20260422T083032
CREATED:20230220T104533Z
LAST-MODIFIED:20230220T104533Z
UID:52950-1679594400-1679599800@thatlldoacademy.com
SUMMARY:Activities for Busy Brains Webinar
DESCRIPTION:Going to sheepdog training and agility is not an option for a lot of us and doing multiple sessions of ball throwing is not ideal both body and mental well-being of our dogs. What other activities and games can tire your Border Collie out even when you don’t have time to walk them 5 hours per day?\nMental stimulation and using their brain is what you need! In this webinar I will give you some ideas\, teach you some games and give you in general guidance on how to make sure you collie needs are met and you don’t have to live with an under stimulated dog that is up to no good most of the time! \nWe will discuss also what is appropriate exercise for different stages of life. 
URL:https://thatlldoacademy.com/event/activities-for-busy-brains-webinar/
ATTACH;FMTTYPE=image/png:https://thatlldoacademy.com/wp-content/uploads/2023/02/1.png
END:VEVENT
BEGIN:VEVENT
DTSTART;TZID=Europe/London:20221208T180000
DTEND;TZID=Europe/London:20221208T200000
DTSTAMP:20260422T083032
CREATED:20221108T113851Z
LAST-MODIFIED:20221108T113851Z
UID:52802-1670522400-1670529600@thatlldoacademy.com
SUMMARY:Pattern Games: the power of predictable repetitions WEBINAR
DESCRIPTION:Patter Games\, making training predictable for your reactive dog \nWhat are pattern games? They are a great invention for the dog training world: a chain of simple behaviours that repeat over and over again\, without asking the dog any performance. \nThey are easy for the dogs and easy for the handler and this is why they are so powerful! \nDogs that are fearful\, excitable\, frustrated and anxious will find the repetitive pattern of these games comforting\, predictable and rewarding. Especially a breed like Border Collies that love repetitive behaviours! \nJoin me on this webinar to learn more about pattern games\, especially the ones I use in my Border Collie programs to help with reactivity and movements sensitivity! \n\n\n\n\n\n\n\n\n\n\n 
URL:https://thatlldoacademy.com/event/pattern-games-the-power-of-predictable-repetitions-webinar/
ATTACH;FMTTYPE=image/png:https://thatlldoacademy.com/wp-content/uploads/2021/06/border-collie-training-improving-attention-and-focus-on-the-owner.png
END:VEVENT
BEGIN:VEVENT
DTSTART;TZID=Europe/London:20221029T090000
DTEND;TZID=Europe/London:20221029T120000
DTSTAMP:20260422T083032
CREATED:20221010T125639Z
LAST-MODIFIED:20221019T142112Z
UID:52755-1667034000-1667044800@thatlldoacademy.com
SUMMARY:Scentwork Workshop
DESCRIPTION:Scentwork is the ideal way to tire a dog out\, produce happy hormones that can contrast stress and anxiety\, to help fearful dogs with confidence in new environments and to develop better skills in reading your dog body language. \n\nWould you like to learn something new with your dog? \n\n\n\nDo you have a dog that struggles to relax\, that seems like it’s never tired?\n\n\n\nIs your dog reactive and nervous so he cannot be walked as easy and you would like to find something to do on those days that walking is not an option?\n\n\n\nScentwork is what you need! What is scentwork? Making your dog a detective\, to things things for you with their nose in order to have a reward\, their favourite toy or food! \n\nNo matter the age\, breed or training level of your dog\, scentwork is the sport for you! \nIt’s a fun\, calm and motivating way to making your dog a detective! Teach them to find a toy\, food or progress to a specific scent. Work as a team to find hidden things. \n 
URL:https://thatlldoacademy.com/event/scentwork-workshop/
ATTACH;FMTTYPE=image/jpeg:https://thatlldoacademy.com/wp-content/uploads/2022/02/Scentwork-Workshop-for-Border-Collies.jpg
END:VEVENT
BEGIN:VEVENT
DTSTART;TZID=Europe/London:20221027T180000
DTEND;TZID=Europe/London:20221027T193000
DTSTAMP:20260422T083032
CREATED:20221019T104222Z
LAST-MODIFIED:20221019T105239Z
UID:52765-1666893600-1666899000@thatlldoacademy.com
SUMMARY:LAT: to transform your dog from a reactor to a reporter WEBINAR
DESCRIPTION:What Leslie says about LAT is that is a way to make your dog a reporter. \nThrough LAT training we can teach your dog to offer disengagement from things that in the environment would make them react instead. \nBig negative or out of control emotions make your dog loose control and the behaviour that comes out normally is nothing that makes your life and your walks easy. Through the Look At That Game we can change that\, teaching your dog to control those big emotions\, being in charge of telling you that something is bothering them and then start a conversation with you about it. Yes\, a conversation\, made of small details and subtle behaviours\, not big shouts and anger. \nThis webinar will teach your what is LAT\, how to start teaching it\, where and how we can apply it and also different ways to use your reinforcements to make LAT a training tool that fits every dog in every situation. \nThank here will be videos to show you how LAT works and how we can teach it and use it in different situations and especially we will be looking at how this exercise will help with collie related behaviours and obsessions.
URL:https://thatlldoacademy.com/event/lat-to-transform-your-dog-from-a-reactor-to-a-reporter-webinae/
ATTACH;FMTTYPE=image/png:https://thatlldoacademy.com/wp-content/uploads/2022/10/CU-WORKSHOPS-FACEBOOK-1.png
END:VEVENT
BEGIN:VEVENT
DTSTART;TZID=Europe/London:20221017T170000
DTEND;TZID=Europe/London:20221017T180000
DTSTAMP:20260422T083032
CREATED:20221010T121942Z
LAST-MODIFIED:20221010T125358Z
UID:52746-1666026000-1666029600@thatlldoacademy.com
SUMMARY:Impulse Control Class
DESCRIPTION:After the success of my online 5 days challenge about impulse control I’m running a 6 weeks class face to face! \nOnly 4 dogs per class. Due to the high intensity of some exercises and the possibility of having to work in the polytunnel the class is not suitable for dog or people reactive dogs as it would be too much for them. \nWho is the class for?\nDogs with movement sensitivity\, struggling to restrain themselves from chasing wildlife\, other dogs running\, bikes and joggers. \nWe will work on impulse control exercises using food and toy\, teaching your dog to offer a calmer response when things get exciting around them! \nYour dog need to be keen on a toy and food and being able to work and accept rewards around other dogs. \nThe class will run for 6 weeks.\nStarting on the 17th of October!
URL:https://thatlldoacademy.com/event/impulse-control-class/
ATTACH;FMTTYPE=image/jpeg:https://thatlldoacademy.com/wp-content/uploads/2022/10/IMG_8719-scaled.jpg
END:VEVENT
END:VCALENDAR